Package: cicero Version: 1.25.0 Command: /home/biocbuild/R/R/bin/R CMD build --keep-empty-dirs --no-resave-data cicero StartedAt: 2025-01-28 21:51:08 -0000 (Tue, 28 Jan 2025) EndedAt: 2025-01-28 21:54:03 -0000 (Tue, 28 Jan 2025) EllapsedTime: 174.4 seconds RetCode: 0 Status: OK PackageFile: cicero_1.25.0.tar.gz PackageFileSize: 1.175 MiB