Package: cicero Version: 1.25.0 Command: /Library/Frameworks/R.framework/Resources/bin/R CMD INSTALL cicero StartedAt: 2025-02-03 15:51:57 -0500 (Mon, 03 Feb 2025) EndedAt: 2025-02-03 15:52:20 -0500 (Mon, 03 Feb 2025) EllapsedTime: 22.5 seconds RetCode: 0 Status: OK