Package: cicero Version: 1.25.0 Command: /Library/Frameworks/R.framework/Resources/bin/R CMD check --install=check:cicero.install-out.txt --library=/Library/Frameworks/R.framework/Resources/library --no-vignettes --timings cicero_1.25.0.tar.gz StartedAt: 2025-02-03 19:08:05 -0500 (Mon, 03 Feb 2025) EndedAt: 2025-02-03 19:11:10 -0500 (Mon, 03 Feb 2025) EllapsedTime: 185.2 seconds RetCode: 0 Status: OK CheckDir: cicero.Rcheck Warnings: 0