Package: chromVAR Version: 1.31.0 Command: /Library/Frameworks/R.framework/Resources/bin/R CMD INSTALL chromVAR StartedAt: 2025-05-06 15:40:32 -0400 (Tue, 06 May 2025) EndedAt: 2025-05-06 15:41:54 -0400 (Tue, 06 May 2025) EllapsedTime: 81.5 seconds RetCode: 0 Status: OK