Package: chromVAR Version: 1.31.0 Command: /Library/Frameworks/R.framework/Resources/bin/R CMD check --install=check:chromVAR.install-out.txt --library=/Library/Frameworks/R.framework/Resources/library --no-vignettes --timings chromVAR_1.31.0.tar.gz StartedAt: 2025-05-07 19:42:43 -0400 (Wed, 07 May 2025) EndedAt: 2025-05-07 19:49:30 -0400 (Wed, 07 May 2025) EllapsedTime: 406.7 seconds RetCode: 0 Status: OK CheckDir: chromVAR.Rcheck Warnings: 0