Package: chromVAR Version: 1.31.0 Command: /Library/Frameworks/R.framework/Resources/bin/R CMD build --keep-empty-dirs --no-resave-data chromVAR StartedAt: 2025-05-07 16:18:25 -0400 (Wed, 07 May 2025) EndedAt: 2025-05-07 16:21:01 -0400 (Wed, 07 May 2025) EllapsedTime: 156.5 seconds RetCode: 0 Status: OK PackageFile: chromVAR_1.31.0.tar.gz PackageFileSize: 505.4 KiB