Package: chromVAR Version: 1.31.0 Command: rm -rf chromVAR.buildbin-libdir && mkdir chromVAR.buildbin-libdir && /Users/biocbuild/BBS/utils/build-universal.sh chromVAR_1.31.0.tar.gz /Library/Frameworks/R.framework/Resources/bin/R chromVAR.buildbin-libdir StartedAt: 2025-05-08 00:36:19 -0400 (Thu, 08 May 2025) EndedAt: 2025-05-08 00:37:46 -0400 (Thu, 08 May 2025) EllapsedTime: 86.3 seconds RetCode: 0 Status: OK PackageFile: chromVAR_1.31.0.tgz PackageFileSize: 1.382 MiB