Package: chromVAR Version: 1.31.0 Command: /Library/Frameworks/R.framework/Resources/bin/R CMD check --install=check:chromVAR.install-out.txt --library=/Library/Frameworks/R.framework/Resources/library --no-vignettes --timings chromVAR_1.31.0.tar.gz StartedAt: 2025-05-09 18:45:35 -0400 (Fri, 09 May 2025) EndedAt: 2025-05-09 18:48:09 -0400 (Fri, 09 May 2025) EllapsedTime: 154.9 seconds RetCode: 0 Status: OK CheckDir: chromVAR.Rcheck Warnings: 0