Package: chromPlot Version: 1.37.0 Command: /home/biocbuild/R/R/bin/R CMD INSTALL chromPlot StartedAt: 2025-10-23 21:24:13 -0000 (Thu, 23 Oct 2025) EndedAt: 2025-10-23 21:24:35 -0000 (Thu, 23 Oct 2025) EllapsedTime: 21.9 seconds RetCode: 0 Status: OK