Package: chromPlot Version: 1.35.0 Command: E:\biocbuild\bbs-3.21-bioc\R\bin\R.exe CMD INSTALL chromPlot StartedAt: 2025-02-09 15:51:24 -0500 (Sun, 09 Feb 2025) EndedAt: 2025-02-09 15:52:00 -0500 (Sun, 09 Feb 2025) EllapsedTime: 36.1 seconds RetCode: 0 Status: OK