Package: chromPlot Version: 1.35.0 Command: E:\biocbuild\bbs-3.21-bioc\R\bin\R.exe CMD check --no-multiarch --install=check:chromPlot.install-out.txt --library=E:\biocbuild\bbs-3.21-bioc\R\library --no-vignettes --timings chromPlot_1.35.0.tar.gz StartedAt: 2025-02-05 00:03:58 -0500 (Wed, 05 Feb 2025) EndedAt: 2025-02-05 00:06:58 -0500 (Wed, 05 Feb 2025) EllapsedTime: 179.4 seconds RetCode: 0 Status: WARNINGS CheckDir: chromPlot.Rcheck Warnings: 1