Package: chromPlot Version: 1.35.0 Command: chmod a+r chromPlot -R && E:\biocbuild\bbs-3.21-bioc\R\bin\R.exe CMD build --keep-empty-dirs --no-resave-data chromPlot StartedAt: 2025-02-04 17:48:43 -0500 (Tue, 04 Feb 2025) EndedAt: 2025-02-04 17:49:46 -0500 (Tue, 04 Feb 2025) EllapsedTime: 63.1 seconds RetCode: 0 Status: OK PackageFile: chromPlot_1.35.0.tar.gz PackageFileSize: 1.355 MiB