Package: chromPlot Version: 1.35.0 Command: /Library/Frameworks/R.framework/Resources/bin/R CMD INSTALL chromPlot StartedAt: 2025-02-04 15:18:37 -0500 (Tue, 04 Feb 2025) EndedAt: 2025-02-04 15:18:58 -0500 (Tue, 04 Feb 2025) EllapsedTime: 21.3 seconds RetCode: 0 Status: OK