Package: chromPlot Version: 1.35.0 Command: /Library/Frameworks/R.framework/Resources/bin/R CMD build --keep-empty-dirs --no-resave-data chromPlot StartedAt: 2025-02-04 16:13:32 -0500 (Tue, 04 Feb 2025) EndedAt: 2025-02-04 16:14:19 -0500 (Tue, 04 Feb 2025) EllapsedTime: 46.6 seconds RetCode: 0 Status: OK PackageFile: chromPlot_1.35.0.tar.gz PackageFileSize: 1.519 MiB