Package: chromPlot Version: 1.35.0 Command: rm -rf chromPlot.buildbin-libdir && mkdir chromPlot.buildbin-libdir && /Users/biocbuild/BBS/utils/build-universal.sh chromPlot_1.35.0.tar.gz /Library/Frameworks/R.framework/Resources/bin/R chromPlot.buildbin-libdir StartedAt: 2025-02-05 00:32:56 -0500 (Wed, 05 Feb 2025) EndedAt: 2025-02-05 00:33:20 -0500 (Wed, 05 Feb 2025) EllapsedTime: 24.2 seconds RetCode: 0 Status: OK PackageFile: chromPlot_1.35.0.tgz PackageFileSize: 1.596 MiB