Package: chromPlot Version: 1.35.0 Command: /home/biocbuild/R/R/bin/R CMD INSTALL chromPlot StartedAt: 2025-01-29 20:01:49 -0000 (Wed, 29 Jan 2025) EndedAt: 2025-01-29 20:02:12 -0000 (Wed, 29 Jan 2025) EllapsedTime: 23.0 seconds RetCode: 0 Status: OK