Package: chromPlot Version: 1.35.0 Command: /Library/Frameworks/R.framework/Resources/bin/R CMD build --keep-empty-dirs --no-resave-data chromPlot StartedAt: 2025-02-04 15:53:53 -0500 (Tue, 04 Feb 2025) EndedAt: 2025-02-04 15:54:11 -0500 (Tue, 04 Feb 2025) EllapsedTime: 17.2 seconds RetCode: 0 Status: OK PackageFile: chromPlot_1.35.0.tar.gz PackageFileSize: 1.52 MiB