Package: chopsticks Version: 1.73.0 Command: E:\biocbuild\bbs-3.21-bioc\R\bin\R.exe CMD INSTALL chopsticks StartedAt: 2025-02-03 16:08:14 -0500 (Mon, 03 Feb 2025) EndedAt: 2025-02-03 16:09:19 -0500 (Mon, 03 Feb 2025) EllapsedTime: 65.2 seconds RetCode: 0 Status: OK