Package: chopsticks Version: 1.73.0 Command: rm -rf chopsticks.buildbin-libdir && mkdir chopsticks.buildbin-libdir && E:\biocbuild\bbs-3.21-bioc\R\bin\R.exe CMD INSTALL --build --library=chopsticks.buildbin-libdir chopsticks_1.73.0.tar.gz StartedAt: 2025-02-04 07:41:08 -0500 (Tue, 04 Feb 2025) EndedAt: 2025-02-04 07:42:09 -0500 (Tue, 04 Feb 2025) EllapsedTime: 60.6 seconds RetCode: 0 Status: OK PackageFile: chopsticks_1.73.0.zip PackageFileSize: 5.306 MiB