Package: chopsticks Version: 1.75.0 Command: /home/biocbuild/bbs-3.22-bioc/R/bin/R CMD INSTALL chopsticks StartedAt: 2025-10-06 15:05:01 -0400 (Mon, 06 Oct 2025) EndedAt: 2025-10-06 15:05:17 -0400 (Mon, 06 Oct 2025) EllapsedTime: 16.7 seconds RetCode: 0 Status: OK