Package: chipenrich Version: 2.33.1 Command: chmod a+r chipenrich -R && F:\biocbuild\bbs-3.22-bioc\R\bin\R.exe CMD build --keep-empty-dirs --no-resave-data chipenrich StartedAt: 2025-08-14 19:05:51 -0400 (Thu, 14 Aug 2025) EndedAt: 2025-08-14 19:08:14 -0400 (Thu, 14 Aug 2025) EllapsedTime: 142.9 seconds RetCode: 0 Status: OK PackageFile: chipenrich_2.33.1.tar.gz PackageFileSize: 439.4 KiB