Package: chipenrich Version: 2.31.0 Command: /Library/Frameworks/R.framework/Resources/bin/R CMD INSTALL chipenrich StartedAt: 2025-02-16 15:35:23 -0500 (Sun, 16 Feb 2025) EndedAt: 2025-02-16 15:36:19 -0500 (Sun, 16 Feb 2025) EllapsedTime: 56.7 seconds RetCode: 0 Status: OK