Package: chipenrich Version: 2.33.0 Command: /Library/Frameworks/R.framework/Resources/bin/R CMD check --install=check:chipenrich.install-out.txt --library=/Library/Frameworks/R.framework/Resources/library --no-vignettes --timings chipenrich_2.33.0.tar.gz StartedAt: 2025-05-09 18:43:03 -0400 (Fri, 09 May 2025) EndedAt: 2025-05-09 18:46:36 -0400 (Fri, 09 May 2025) EllapsedTime: 213.3 seconds RetCode: 0 Status: OK CheckDir: chipenrich.Rcheck Warnings: 0