Package: chihaya Version: 1.9.0 Command: /Library/Frameworks/R.framework/Resources/bin/R CMD check --install=check:chihaya.install-out.txt --library=/Library/Frameworks/R.framework/Resources/library --no-vignettes --timings chihaya_1.9.0.tar.gz StartedAt: 2025-05-06 19:38:11 -0400 (Tue, 06 May 2025) EndedAt: 2025-05-06 19:41:01 -0400 (Tue, 06 May 2025) EllapsedTime: 169.9 seconds RetCode: 0 Status: WARNINGS CheckDir: chihaya.Rcheck Warnings: 1