Package: chihaya Version: 1.9.0 Command: /Library/Frameworks/R.framework/Resources/bin/R CMD build --keep-empty-dirs --no-resave-data chihaya StartedAt: 2025-05-06 16:15:14 -0400 (Tue, 06 May 2025) EndedAt: 2025-05-06 16:16:02 -0400 (Tue, 06 May 2025) EllapsedTime: 47.9 seconds RetCode: 0 Status: OK PackageFile: chihaya_1.9.0.tar.gz PackageFileSize: 258.1 KiB