Package: chevreulShiny Version: 0.99.26 Command: E:\biocbuild\bbs-3.21-bioc\R\bin\R.exe CMD INSTALL chevreulShiny StartedAt: 2025-02-17 17:03:15 -0500 (Mon, 17 Feb 2025) EndedAt: 2025-02-17 17:03:15 -0500 (Mon, 17 Feb 2025) EllapsedTime: 0.4 seconds RetCode: 1 Status: ERROR