Package: chevreulShiny Version: 1.1.2 Command: /home/biocbuild/bbs-3.22-bioc/R/bin/R CMD INSTALL chevreulShiny StartedAt: 2025-10-16 16:59:53 -0400 (Thu, 16 Oct 2025) EndedAt: 2025-10-16 17:00:57 -0400 (Thu, 16 Oct 2025) EllapsedTime: 64.0 seconds RetCode: 0 Status: OK