Package: chevreulShiny Version: 0.99.26 Command: /home/biocbuild/bbs-3.21-bioc/R/bin/R CMD INSTALL chevreulShiny StartedAt: 2025-02-17 16:04:18 -0500 (Mon, 17 Feb 2025) EndedAt: 2025-02-17 16:04:18 -0500 (Mon, 17 Feb 2025) EllapsedTime: 0.2 seconds RetCode: 1 Status: ERROR