Package: chevreulShiny Version: 0.99.26 Command: /home/biocbuild/bbs-3.21-bioc/R/bin/R CMD build --keep-empty-dirs --no-resave-data chevreulShiny StartedAt: 2025-02-17 16:35:38 -0500 (Mon, 17 Feb 2025) EndedAt: 2025-02-17 16:35:39 -0500 (Mon, 17 Feb 2025) EllapsedTime: 1.0 seconds RetCode: 1 Status: ERROR PackageFile: None PackageFileSize: NA