Package: chevreulShiny Version: 0.99.26 Command: /Library/Frameworks/R.framework/Resources/bin/R CMD INSTALL chevreulShiny StartedAt: 2025-02-17 15:49:27 -0500 (Mon, 17 Feb 2025) EndedAt: 2025-02-17 15:49:28 -0500 (Mon, 17 Feb 2025) EllapsedTime: 0.3 seconds RetCode: 1 Status: ERROR