Package: chevreulShiny Version: 0.99.26 Command: /Library/Frameworks/R.framework/Resources/bin/R CMD build --keep-empty-dirs --no-resave-data chevreulShiny StartedAt: 2025-02-17 16:11:24 -0500 (Mon, 17 Feb 2025) EndedAt: 2025-02-17 16:11:25 -0500 (Mon, 17 Feb 2025) EllapsedTime: 1.2 seconds RetCode: 1 Status: ERROR PackageFile: None PackageFileSize: NA