Package: chevreulShiny Version: 1.1.2 Command: rm -rf chevreulShiny.buildbin-libdir && mkdir chevreulShiny.buildbin-libdir && /Users/biocbuild/BBS/utils/build-universal.sh chevreulShiny_1.1.2.tar.gz /Library/Frameworks/R.framework/Resources/bin/R chevreulShiny.buildbin-libdir StartedAt: 2025-10-16 02:44:59 -0400 (Thu, 16 Oct 2025) EndedAt: 2025-10-16 02:46:21 -0400 (Thu, 16 Oct 2025) EllapsedTime: 82.3 seconds RetCode: 0 Status: OK PackageFile: chevreulShiny_1.1.2.tgz PackageFileSize: 6.377 MiB