Package: chevreulProcess Version: 1.3.0 Command: /home/biocbuild/bbs-3.23-bioc/R/bin/R CMD INSTALL chevreulProcess StartedAt: 2025-11-05 16:01:30 -0500 (Wed, 05 Nov 2025) EndedAt: 2025-11-05 16:02:23 -0500 (Wed, 05 Nov 2025) EllapsedTime: 53.5 seconds RetCode: 0 Status: OK