Package: chevreulProcess Version: 1.3.0 Command: /home/biocbuild/bbs-3.23-bioc/R/bin/R CMD build --keep-empty-dirs --no-resave-data chevreulProcess StartedAt: 2025-11-05 16:51:23 -0500 (Wed, 05 Nov 2025) EndedAt: 2025-11-05 16:52:36 -0500 (Wed, 05 Nov 2025) EllapsedTime: 73.1 seconds RetCode: 0 Status: OK PackageFile: chevreulProcess_1.3.0.tar.gz PackageFileSize: 4.756 MiB