Package: chevreulProcess Version: 1.1.2 Command: /Library/Frameworks/R.framework/Resources/bin/R CMD INSTALL chevreulProcess StartedAt: 2025-10-23 15:49:17 -0400 (Thu, 23 Oct 2025) EndedAt: 2025-10-23 15:50:29 -0400 (Thu, 23 Oct 2025) EllapsedTime: 72.0 seconds RetCode: 0 Status: OK