Package: chevreulProcess Version: 1.1.2 Command: /Library/Frameworks/R.framework/Resources/bin/R CMD build --keep-empty-dirs --no-resave-data chevreulProcess StartedAt: 2025-10-23 16:22:51 -0400 (Thu, 23 Oct 2025) EndedAt: 2025-10-23 16:24:17 -0400 (Thu, 23 Oct 2025) EllapsedTime: 85.5 seconds RetCode: 0 Status: OK PackageFile: chevreulProcess_1.1.2.tar.gz PackageFileSize: 4.756 MiB