Package: chevreulProcess Version: 1.1.2 Command: /Library/Frameworks/R.framework/Resources/bin/R CMD INSTALL chevreulProcess StartedAt: 2025-10-13 15:30:31 -0400 (Mon, 13 Oct 2025) EndedAt: 2025-10-13 15:30:59 -0400 (Mon, 13 Oct 2025) EllapsedTime: 27.9 seconds RetCode: 0 Status: OK