Package: chevreulProcess Version: 1.1.2 Command: /Library/Frameworks/R.framework/Resources/bin/R CMD build --keep-empty-dirs --no-resave-data chevreulProcess StartedAt: 2025-10-13 15:55:25 -0400 (Mon, 13 Oct 2025) EndedAt: 2025-10-13 15:55:57 -0400 (Mon, 13 Oct 2025) EllapsedTime: 31.3 seconds RetCode: 0 Status: OK PackageFile: chevreulProcess_1.1.2.tar.gz PackageFileSize: 4.756 MiB