Package: chevreulProcess Version: 1.1.2 Command: rm -rf chevreulProcess.buildbin-libdir && mkdir chevreulProcess.buildbin-libdir && /Users/biocbuild/BBS/utils/build-universal.sh chevreulProcess_1.1.2.tar.gz /Library/Frameworks/R.framework/Resources/bin/R chevreulProcess.buildbin-libdir StartedAt: 2025-10-13 22:36:33 -0400 (Mon, 13 Oct 2025) EndedAt: 2025-10-13 22:36:58 -0400 (Mon, 13 Oct 2025) EllapsedTime: 24.4 seconds RetCode: 0 Status: OK PackageFile: chevreulProcess_1.1.2.tgz PackageFileSize: 4.866 MiB