Package: chevreulPlot Version: 0.99.32 Command: /Library/Frameworks/R.framework/Resources/bin/R CMD INSTALL chevreulPlot StartedAt: 2025-02-21 15:50:10 -0500 (Fri, 21 Feb 2025) EndedAt: 2025-02-21 15:50:10 -0500 (Fri, 21 Feb 2025) EllapsedTime: 0.3 seconds RetCode: 1 Status: ERROR