Package: chevreulPlot Version: 1.1.2 Command: rm -rf chevreulPlot.buildbin-libdir && mkdir chevreulPlot.buildbin-libdir && /Users/biocbuild/BBS/utils/build-universal.sh chevreulPlot_1.1.2.tar.gz /Library/Frameworks/R.framework/Resources/bin/R chevreulPlot.buildbin-libdir StartedAt: 2025-10-22 22:54:52 -0400 (Wed, 22 Oct 2025) EndedAt: 2025-10-22 22:55:17 -0400 (Wed, 22 Oct 2025) EllapsedTime: 24.4 seconds RetCode: 0 Status: OK PackageFile: chevreulPlot_1.1.2.tgz PackageFileSize: 12.96 MiB