Package: chevreulPlot Version: 0.99.32 Maintainer: Kevin Stachelek MaintainerEmail: kevin.stachelek at gmail.com git_url: https://git.bioconductor.org/packages/chevreulPlot git_branch: devel git_last_commit: 6ac1586 git_last_commit_date: 2025-02-18 14:39:44 -0500 (Tue, 18 Feb 2025)