Package: cghMCR Version: 1.67.0 Command: chmod a+r cghMCR -R && F:\biocbuild\bbs-3.22-bioc\R\bin\R.exe CMD build --keep-empty-dirs --no-resave-data cghMCR StartedAt: 2025-08-14 19:03:43 -0400 (Thu, 14 Aug 2025) EndedAt: 2025-08-14 19:05:08 -0400 (Thu, 14 Aug 2025) EllapsedTime: 85.1 seconds RetCode: 0 Status: OK PackageFile: cghMCR_1.67.0.tar.gz PackageFileSize: 36.01 MiB