Package: cghMCR Version: 1.65.0 Command: /Library/Frameworks/R.framework/Resources/bin/R CMD build --keep-empty-dirs --no-resave-data cghMCR StartedAt: 2025-02-03 16:26:13 -0500 (Mon, 03 Feb 2025) EndedAt: 2025-02-03 16:26:43 -0500 (Mon, 03 Feb 2025) EllapsedTime: 29.3 seconds RetCode: 0 Status: OK PackageFile: cghMCR_1.65.0.tar.gz PackageFileSize: 36.1 MiB