Package: cghMCR Version: 1.65.0 Command: rm -rf cghMCR.buildbin-libdir && mkdir cghMCR.buildbin-libdir && /Users/biocbuild/BBS/utils/build-universal.sh cghMCR_1.65.0.tar.gz /Library/Frameworks/R.framework/Resources/bin/R cghMCR.buildbin-libdir StartedAt: 2025-02-03 22:44:48 -0500 (Mon, 03 Feb 2025) EndedAt: 2025-02-03 22:45:02 -0500 (Mon, 03 Feb 2025) EllapsedTime: 14.3 seconds RetCode: 0 Status: OK PackageFile: cghMCR_1.65.0.tgz PackageFileSize: 37.03 MiB