Package: cfdnakit Version: 1.5.0 Command: /home/biocbuild/bbs-3.21-bioc/R/bin/R CMD build --keep-empty-dirs --no-resave-data cfdnakit StartedAt: 2025-02-16 16:35:38 -0500 (Sun, 16 Feb 2025) EndedAt: 2025-02-16 16:36:22 -0500 (Sun, 16 Feb 2025) EllapsedTime: 44.0 seconds RetCode: 0 Status: OK PackageFile: cfdnakit_1.5.0.tar.gz PackageFileSize: 3.085 MiB