Package: cfTools Version: 1.7.0 Command: E:\biocbuild\bbs-3.21-bioc\R\bin\R.exe CMD INSTALL cfTools StartedAt: 2025-02-03 16:00:59 -0500 (Mon, 03 Feb 2025) EndedAt: 2025-02-03 16:02:26 -0500 (Mon, 03 Feb 2025) EllapsedTime: 86.9 seconds RetCode: 0 Status: OK