Package: cfTools Version: 1.7.0 Command: /Library/Frameworks/R.framework/Resources/bin/R CMD INSTALL cfTools StartedAt: 2025-02-03 15:21:02 -0500 (Mon, 03 Feb 2025) EndedAt: 2025-02-03 15:21:51 -0500 (Mon, 03 Feb 2025) EllapsedTime: 49.5 seconds RetCode: 0 Status: OK