Package: cfTools Version: 1.7.0 Command: /home/biocbuild/R/R/bin/R CMD build --keep-empty-dirs --no-resave-data cfTools StartedAt: 2025-01-28 21:44:39 -0000 (Tue, 28 Jan 2025) EndedAt: 2025-01-28 21:47:40 -0000 (Tue, 28 Jan 2025) EllapsedTime: 181.1 seconds RetCode: 1 Status: ERROR PackageFile: None PackageFileSize: NA