Package: cfDNAPro Version: 1.15.0 Maintainer: Haichao Wang MaintainerEmail: hw538 at cam.ac.uk git_url: https://git.bioconductor.org/packages/cfDNAPro git_branch: devel git_last_commit: c355389 git_last_commit_date: 2025-04-15 12:35:54 -0400 (Tue, 15 Apr 2025)